BEGIN:VCALENDAR
VERSION:2.0
PRODID:-//SVP Sense //NONSGML Events //EN
CALSCALE:GREGORIAN
X-WR-CALNAME:SVP Sense
BEGIN:VEVENT
CREATED:20251215T091847Z
UID:2423
DTEND:20260320T000000
DTSTART:20260302T000000
DTSTAMP:20260420T080922Z
LOCATION:
DESCRIPTION:
SUMMARY:Eidgenössische Session
ORGANIZER:
URL;VALUE=URI:https://www.svp-sense.ch/termine/eidgenoessische-session/
TRANSP:OPAQUE
END:VEVENT
END:VCALENDAR
