BEGIN:VCALENDAR
VERSION:2.0
PRODID:-//SVP Sense //NONSGML Events //EN
CALSCALE:GREGORIAN
X-WR-CALNAME:SVP Sense
BEGIN:VEVENT
CREATED:20251215T091845Z
UID:2395
DTEND:20260308T000000
DTSTART:20260308T000000
DTSTAMP:20260420T080826Z
LOCATION:
DESCRIPTION:
SUMMARY:Gemeinderatswahlen
ORGANIZER:
URL;VALUE=URI:https://www.svp-sense.ch/termine/gemeinderatswahlen/
TRANSP:OPAQUE
END:VEVENT
END:VCALENDAR
