BEGIN:VCALENDAR
VERSION:2.0
PRODID:-//SVP Sense //NONSGML Events //EN
CALSCALE:GREGORIAN
X-WR-CALNAME:SVP Sense
BEGIN:VEVENT
CREATED:20250116T131057Z
UID:2200
DTEND:20250910T190000
DTSTART:20250910T183000
DTSTAMP:20260421T084905Z
LOCATION:
DESCRIPTION:
SUMMARY:LA-Sitzung SVP Sense
ORGANIZER:
URL;VALUE=URI:https://www.svp-sense.ch/termine/la-sitzung-svp-sense-3/
TRANSP:OPAQUE
END:VEVENT
END:VCALENDAR
