BEGIN:VCALENDAR
VERSION:2.0
PRODID:-//SVP Sense //NONSGML Events //EN
CALSCALE:GREGORIAN
X-WR-CALNAME:SVP Sense
BEGIN:VEVENT
CREATED:20221103T070808Z
UID:1557
DTEND:20230517T000000
DTSTART:20230517T000000
DTSTAMP:20260423T091430Z
LOCATION:Plaffeien
DESCRIPTION:
SUMMARY:Plaffeie Märit
ORGANIZER:
URL;VALUE=URI:https://www.svp-sense.ch/termine/plaffeie-maerit-2/
TRANSP:OPAQUE
END:VEVENT
END:VCALENDAR
