BEGIN:VCALENDAR
VERSION:2.0
PRODID:-//SVP Sense //NONSGML Events //EN
CALSCALE:GREGORIAN
X-WR-CALNAME:SVP Sense
BEGIN:VEVENT
CREATED:20220403T125521Z
UID:1305
DTEND:20221221T200000
DTSTART:20221221T190000
DTSTAMP:20260423T002406Z
LOCATION:St. Ursen
DESCRIPTION:
SUMMARY:Vorstandssitzung SVP Sense
ORGANIZER:
URL;VALUE=URI:https://www.svp-sense.ch/termine/vorstandssitzung-svp-sense-7/
TRANSP:OPAQUE
END:VEVENT
END:VCALENDAR
